BEGIN:VCALENDAR
VERSION:2.0
PRODID:-//Contratero//ES
CALSCALE:GREGORIAN
METHOD:PUBLISH
BEGIN:VEVENT
UID:2020/3222 (NSP)@contratero.es
DTSTAMP:20260422T170700Z
DTSTART:20200824T235959
DTEND:20200825T005959
SUMMARY:Cierre: Servicio y mantenimiento de una App móvil y softwa
DESCRIPTION:Servicio y mantenimiento de una App móvil y software de gestión de incidencias urbanas “GECOR”\\n\\nOrganismo: Alcaldia del Ayuntamiento de Arroyo de la Encomienda\\n\\nVer en Contratero: https://contratero.es/contracts/2020/3222 (NSP)
URL:https://contratero.es/contracts/2020/3222 (NSP)
STATUS:CONFIRMED
BEGIN:VALARM
TRIGGER:-P1D
ACTION:DISPLAY
DESCRIPTION:Recordatorio: Servicio y mantenimiento de un
END:VALARM
END:VEVENT
END:VCALENDAR